

BEGIN:VCALENDAR
VERSION:2.0
PRODID:-//wp-events-plugin.com//7.2.3.1//EN
TZID:Europe/Rome
X-WR-TIMEZONE:Europe/Rome
BEGIN:VEVENT
UID:34@iriss.cnr.it
DTSTART:20141021T220000Z
DTEND:20141023T220000Z
DTSTAMP:20160331T132811Z
URL:https://www.iriss.cnr.it/events/smart-city-exhibition/
SUMMARY:SMART City Exhibition
DESCRIPTION:In occasione dello SMART City Exhibition che si è tenuto a Bol
 ogna dal 22 al 24 ottobre 2014 la partnership del Progetto Orchestra è st
 ato presente nello stand del Comune di Napoli e nello stand del  Ministero
  dell'Istruzione\, dell'Università e della Ricerca. 
ATTACH;FMTTYPE=image/jpeg:https://www.iriss.cnr.it/wp-content/uploads/2016
 /02/20141022171940_news.jpg
LOCATION:Bologna Fiere\, Viale della Fiera\, 20 \, Bologna \, Italia
GEO:44.5100997;11.36948469999993
X-APPLE-STRUCTURED-LOCATION;VALUE=URI;X-ADDRESS=Viale della Fiera\, 20 \, B
 ologna \, Italia;X-APPLE-RADIUS=100;X-TITLE=Bologna Fiere:geo:44.5100997,1
 1.36948469999993
END:VEVENT
END:VCALENDAR