

BEGIN:VCALENDAR
VERSION:2.0
PRODID:-//wp-events-plugin.com//7.2.3.1//EN
TZID:Europe/Rome
X-WR-TIMEZONE:Europe/Rome
BEGIN:VEVENT
UID:472@iriss.cnr.it
DTSTART;TZID=Europe/Rome:20220523T163000
DTEND;TZID=Europe/Rome:20220523T163000
DTSTAMP:20220515T100533Z
URL:https://www.iriss.cnr.it/events/sea-heritage-community-network/
SUMMARY:Sea Heritage Community Network
DESCRIPTION:L'incontro\, co-curato dall'Istituto di ricerca su innovazione 
 e servizi per lo sviluppo (Cnr-Iriss) e dal Museo Archeologico Nazionale d
 i Napoli (Mann)\, nasce nell'ambito della convenzione per il progetto "Il 
 mare e l'acqua di Neapolis". La convenzione prevede un programma di attiv
 ità che vuole valorizzare le vie delle "acque dolci" e di quelle "salate"
 . Da un lato si prevede la realizzazione di uno spazio dedicato al Mediter
 raneo "ieri\, oggi e domani" e dall'altro un percorso dedicato all'acqua q
 uale elemento fondamentale utile al funzionamento delle poleis greche pr
 ima e delle urbes romane dopo\, nel Mann\, nei siti ExtraMann del proget
 to "Obvia" e nel Porto di Napoli (in collaborazione con l'Autorità di sis
 tema portuale del Mar Tirreno Centrale e Terminal Napoli).
ATTACH;FMTTYPE=image/jpeg:https://www.iriss.cnr.it/wp-content/uploads/2022
 /05/Sea-heritage-community-network-may-2022-1.jpeg
LOCATION:Audutorium MANN\, Museo Archeologico Nazionale di Napoli\, Napoli\
 , Italia
X-APPLE-STRUCTURED-LOCATION;VALUE=URI;X-ADDRESS=Museo Archeologico Nazional
 e di Napoli\, Napoli\, Italia;X-APPLE-RADIUS=100;X-TITLE=Audutorium MANN:g
 eo:0,0
END:VEVENT
BEGIN:VTIMEZONE
TZID:Europe/Rome
X-LIC-LOCATION:Europe/Rome
BEGIN:DAYLIGHT
DTSTART:20220327T030000
TZOFFSETFROM:+0100
TZOFFSETTO:+0200
TZNAME:CEST
END:DAYLIGHT
END:VTIMEZONE
END:VCALENDAR