

BEGIN:VCALENDAR
VERSION:2.0
PRODID:-//wp-events-plugin.com//7.2.3.1//EN
TZID:Europe/Rome
X-WR-TIMEZONE:Europe/Rome
BEGIN:VEVENT
UID:593@iriss.cnr.it
DTSTART;TZID=Europe/Rome:20230426T143000
DTEND;TZID=Europe/Rome:20230426T173000
DTSTAMP:20230418T144554Z
URL:https://www.iriss.cnr.it/events/per-luoghi-comuni-ex-qualcosa/
SUMMARY:Per luoghi comuni. Ex-Qualcosa
DESCRIPTION:Il Cnr-Iriss aderisce all’iniziativa "Per luoghi comuni. Ex-Q
 ualcosa" curata dal collettivo sottospazio nell'ambito del Festival dell'A
 rchitettura organizzato dal Dipartimento di Architettura di Napoli - Unive
 rsità degli Studi di Napoli “Federico II” - e dalla Regione Campania.
ATTACH;FMTTYPE=image/jpeg:https://www.iriss.cnr.it/wp-content/uploads/2023
 /04/CA23_locandina_napoli_EXTRA.jpg
LOCATION:San Giovanni a Teduccio\, San Giovanni a Teduccio\, Napoli\, Napol
 i\, Italia
X-APPLE-STRUCTURED-LOCATION;VALUE=URI;X-ADDRESS=San Giovanni a Teduccio\, N
 apoli\, Napoli\, Italia;X-APPLE-RADIUS=100;X-TITLE=San Giovanni a Teduccio
 :geo:0,0
END:VEVENT
BEGIN:VTIMEZONE
TZID:Europe/Rome
X-LIC-LOCATION:Europe/Rome
BEGIN:DAYLIGHT
DTSTART:20230326T030000
TZOFFSETFROM:+0100
TZOFFSETTO:+0200
TZNAME:CEST
END:DAYLIGHT
END:VTIMEZONE
END:VCALENDAR